BEGIN:VCALENDAR
VERSION:2.0
PRODID:-//Westmeath PPN - ECPv6.15.20//NONSGML v1.0//EN
CALSCALE:GREGORIAN
METHOD:PUBLISH
X-ORIGINAL-URL:https://westmeathppn.ie
X-WR-CALDESC:Events for Westmeath PPN
REFRESH-INTERVAL;VALUE=DURATION:PT1H
X-Robots-Tag:noindex
X-PUBLISHED-TTL:PT1H
BEGIN:VTIMEZONE
TZID:Europe/Dublin
BEGIN:STANDARD
TZOFFSETFROM:+0000
TZOFFSETTO:+0100
TZNAME:IST
DTSTART:20240331T010000
END:STANDARD
BEGIN:DAYLIGHT
TZOFFSETFROM:+0100
TZOFFSETTO:+0000
TZNAME:GMT
DTSTART:20241027T010000
END:DAYLIGHT
BEGIN:STANDARD
TZOFFSETFROM:+0000
TZOFFSETTO:+0100
TZNAME:IST
DTSTART:20250330T010000
END:STANDARD
BEGIN:DAYLIGHT
TZOFFSETFROM:+0100
TZOFFSETTO:+0000
TZNAME:GMT
DTSTART:20251026T010000
END:DAYLIGHT
BEGIN:STANDARD
TZOFFSETFROM:+0000
TZOFFSETTO:+0100
TZNAME:IST
DTSTART:20260329T010000
END:STANDARD
BEGIN:DAYLIGHT
TZOFFSETFROM:+0100
TZOFFSETTO:+0000
TZNAME:GMT
DTSTART:20261025T010000
END:DAYLIGHT
BEGIN:STANDARD
TZOFFSETFROM:+0000
TZOFFSETTO:+0100
TZNAME:IST
DTSTART:20270328T010000
END:STANDARD
BEGIN:DAYLIGHT
TZOFFSETFROM:+0100
TZOFFSETTO:+0000
TZNAME:GMT
DTSTART:20271031T010000
END:DAYLIGHT
END:VTIMEZONE
BEGIN:VEVENT
DTSTART;TZID=Europe/Dublin:20260120T180000
DTEND;TZID=Europe/Dublin:20260122T210000
DTSTAMP:20260420T141301
CREATED:20260105T173319Z
LAST-MODIFIED:20260109T113332Z
UID:10000010-1768932000-1769115600@westmeathppn.ie
SUMMARY:WPPN & WCC Grant Information Events 2026
DESCRIPTION:Westmeath Public Participation Network and Westmeath County Council are hosting Grant Information Evenings and Walk in Clinics in late January and early February\, both in Athlone and Mullingar. \nThis is a chance for all members of the public/community groups to gather information and ask any questions they may have on public grants available for 2026. \nThese are free events and open to all the public. Refreshments will be provided at all events. In order for us to calculate our catering requirements we ask that attendees register for the two Grant Information Evenings. There is no requirement to register for the two Walk-in Clinics. \nTo Register for the Grant Info Evenings in Mullingar and Athlone click on this link. \nEvent Details \n20th January. Grant Info Evening Athlone. 6pm-9pm. Shamrock Lodge \n22nd January. Grant Info Evening Mullingar. 6pm-9pm. Greville Arms. \n27th January. Grant Walk-in Clinic Athlone. 10am-2pm. Shamrock Lodge. \n3rd February. Grant Walk-in Clinic Mullingar. 6pm-9pm. Greville Arms \nNB. Note that the Mullingar Events are being held in the Greville Arms this Year.\nIf you have any queries or require additional supports to attend these events\, please email ppn@westmeathcoco.ie or call 044-9332157
URL:https://westmeathppn.ie/event/wppn-wcc-grant-information-events-2026/
LOCATION:Shamrock Lodge Hotel\, Athlone\, Clonown Rd\, Bellaugh\, Athlone\, Co Westmeath\, N37 CK73\, Ireland
ATTACH;FMTTYPE=image/jpeg:https://westmeathppn.ie/wp-content/uploads/2026/01/Grant-Information-Evenings-2026.jpg
ORGANIZER;CN="WPPN":MAILTO:ppn@westmeathcoco.ie
GEO:53.4217433;-7.9494645
X-APPLE-STRUCTURED-LOCATION;VALUE=URI;X-ADDRESS=Shamrock Lodge Hotel Athlone Clonown Rd Bellaugh Athlone Co Westmeath N37 CK73 Ireland;X-APPLE-RADIUS=500;X-TITLE=Clonown Rd\, Bellaugh:geo:-7.9494645,53.4217433
END:VEVENT
BEGIN:VEVENT
DTSTART;TZID=Europe/Dublin:20251124T180000
DTEND;TZID=Europe/Dublin:20251124T210000
DTSTAMP:20260420T141301
CREATED:20251022T121957Z
LAST-MODIFIED:20251202T121805Z
UID:10000007-1764007200-1764018000@westmeathppn.ie
SUMMARY:WPPN Plenary Meeting - 24th Nov 2025
DESCRIPTION:The Public are invited to register to attend upcoming WPPN Plenary Meeting on 24th November 2025. \nTo Register Click This Link – https://forms.office.com/e/smmhR4ZZ1y\nThe location is Bloomfield House Hotel\, Mullingar which is fully accessible. \nThe event runs from 6pm until 9pm. Our ever-popular Information Village will open at 6pm\, with the meeting starting at 7pm. \nRefreshments (tea/coffee/sandwiches and hot finger food) will be provided. Gluten-free/vegetarian/lactose-free options will be available. \nDocumentation for this Plenary \n\nDraft Agenda of Westmeath PPN Plenary\, 24th Nov 2025\nDraft Minutes WPPN Plenary. 16th April 2025\nDraft Strategic Plan 2026-2030\nDraft Workplan for 2026
URL:https://westmeathppn.ie/event/wppn-plenary-meeting-24th-nov-2025/
LOCATION:Bloomfield House Hotel\, Belvedere\, Mullingar\, Co Westmeath\, N91 HP8E\, Ireland
ATTACH;FMTTYPE=image/jpeg:https://westmeathppn.ie/wp-content/uploads/2025/10/Photo_Collage_Plenary1.jpg
ORGANIZER;CN="WPPN":MAILTO:ppn@westmeathcoco.ie
GEO:53.5256075;-7.3418806
X-APPLE-STRUCTURED-LOCATION;VALUE=URI;X-ADDRESS=Bloomfield House Hotel Belvedere Mullingar Co Westmeath N91 HP8E Ireland;X-APPLE-RADIUS=500;X-TITLE=Belvedere:geo:-7.3418806,53.5256075
END:VEVENT
BEGIN:VEVENT
DTSTART;VALUE=DATE:20251008
DTEND;VALUE=DATE:20251009
DTSTAMP:20260420T141301
CREATED:20250606T150806Z
LAST-MODIFIED:20250828T162040Z
UID:10000001-1759881600-1759967999@westmeathppn.ie
SUMMARY:FREE 'Grow Your Own' Organic Workshop
DESCRIPTION:Following on from last year's successful event\, WPPN and Healthy Westmeath are again hosting a FREE 'Grow Your Own' horticulture workshop with organic horticulturist\, Colman Power. \nDuring this half day workshop attendees will gain an understanding of how to successfully grow organic fitness foods\, from purple sprouting broccoli\, to beetroot\, to rocket leaves. Included in this are organic seeds\, organic compost\, sowing trays\, tools and transplants for demonstration. All delivered by the vibrant and lively Wexfordman\, Colman Power\, who's enthusiasm and energy is infectious! \nDate and Time : 11.30am - 3pm. Wednesday\, 8th October 2025. \nVenue : Murtagh's Organic Farm \, in their newly located premises in the Old Parochial House\, at the heart of Ballinacarrigy\, N91 PV04. \nComplimentary refreshments will be provided to all those who attend. \nTo sign up for this lovely autumnal event simply fill out this online registration form - https://forms.office.com/e/PV8GnKVUvi or call Mark or Martin at 044 9332157 who will take your details and register you.
URL:https://westmeathppn.ie/event/grow-your-own-organic-workshop-with-colman-power/
LOCATION:Murtagh’s Organic Farm\, Parochial House\, Ballynacarrigy N91 PV04\, Emper\, Castlegaddery\, Ballinacarrigy\, Mullingar\, Co Westmeath\, N91 KW82\, Ireland
ATTACH;FMTTYPE=image/png:https://westmeathppn.ie/wp-content/uploads/2025/06/GrowYourOwnThumbnail.png
ORGANIZER;CN="WPPN":MAILTO:ppn@westmeathcoco.ie
GEO:53.5995452;-7.5811922
X-APPLE-STRUCTURED-LOCATION;VALUE=URI;X-ADDRESS=Murtagh’s Organic Farm Parochial House Ballynacarrigy N91 PV04 Emper Castlegaddery Ballinacarrigy Mullingar Co Westmeath N91 KW82 Ireland;X-APPLE-RADIUS=500;X-TITLE=Emper\, Castlegaddery\, Ballinacarrigy:geo:-7.5811922,53.5995452
END:VEVENT
BEGIN:VEVENT
DTSTART;VALUE=DATE:20250911
DTEND;VALUE=DATE:20251002
DTSTAMP:20260420T141301
CREATED:20250820T122343Z
LAST-MODIFIED:20250820T123104Z
UID:10000004-1757548800-1759363199@westmeathppn.ie
SUMMARY:WPPN Linkage Group Meetings Sept-Oct 2025
DESCRIPTION:The Pubic are invited to register to attend upcoming WPPN Linkage Group Meetings this Autumn. \nRegister for the Linkage Group Meetings by clicking on this link –https://forms.office.com/e/kFaumPcYw2\nDates and Times of Meetings\n\nEconomic Development\, Enterprise\, Agriculture\, Tourism Linkage Group meeting\n\n11th Sept\, 6.30pm\nCouncil Buildings\, Mullingar\n\n\nEnvironment\, Climate-Action\, Rural-Water\, Emergency Linkage Group meeting\n\n23rd Sept\, 6.30pm\nCouncil Buildings\, Mullingar\n\n\nHousing Community\, Recreation\, Culture Linkage Group meeting\n\n25th Sept\, 6.30pm.\nCouncil Buildings\, Mullingar\n\n\nPlanning\, Regeneration\, Transport Linkage Group meeting\n\n1st Oct\, 7.30pm.\nRadisson Blu Hotel\, Athlone\n\n\n\nWhy should I attend?\n\nThe WPPN currently has four Linkage Groups which mirror the 4 Strategic Policy Committees (SPCs) of Westmeath County Council (WCC)\nThere are WPPN Representatives on each Strategic Policy Committee.\nThese Reps have been directly elected by the WPPN Member groups.\nThese public meetings provide an opportunity for WPPN members to participate in the local democratic process in Westmeath\nPut forward your views and concerns to your WPPN Reps\, which can then be fed into WCC through the SPCs\nThese meetings are hybrid – so the public can attend online or in-person in Mullingar/Athlone.\n\n  \nInfo for attendees\n\nMembers can attend all of these meetings if they wish – register at https://forms.office.com/e/kFaumPcYw2\nLinks to online meetings will be emailed to attendees in advance of the meetings.\nFor those attending on-line the time indicated is the MEETING START TIME.\nRefreshments will be provided for those attending in-person. As noted the time indicated is the Meeting Start Time so please arrive 10/15 mins beforehand to avail of refreshments.
URL:https://westmeathppn.ie/event/wppn-linkage-group-meetings-sept-oct-2025/
ATTACH;FMTTYPE=image/png:https://westmeathppn.ie/wp-content/uploads/2025/08/Linkage-Group.png
ORGANIZER;CN="WPPN":MAILTO:ppn@westmeathcoco.ie
END:VEVENT
BEGIN:VEVENT
DTSTART;TZID=Europe/Dublin:20250903T100000
DTEND;TZID=Europe/Dublin:20250903T150000
DTSTAMP:20260420T141301
CREATED:20250811T121349Z
LAST-MODIFIED:20250828T162521Z
UID:10000002-1756893600-1756911600@westmeathppn.ie
SUMMARY:FREE Pollinator Planting Workshop
DESCRIPTION:THIS EVENT IS NOW BOOKED OUT!\nAs an alternative please consider attending our ‘GROW YOUR OWN’ Organic Workshop on 8th October. Register at  https://westmeathppn.ie/event/grow-your-own-organic-workshop-with-colman-power/ \n———————————————————————————————————————————————————————\n3rd September 2025. 10am-3pm. Belvedere House and Gardens\nWestmeath PPN and Westmeath County Council are delighted to offer this one-day pollinator planting workshop which will be run by Aoife Munn. \nThis hands-on workshop which is being held in the beautiful grounds of Belvedere House and Gardens is perfect for beginners and gardening enthusiasts alike. This will be of particular interest for all our green-fingered Tidy Town and Tidy Village Groups who are interested in adding pollinator friendly plants to our public planting spaces. \nLearn how to choose the best plants to encourage pollinator insects to your garden\, hedgerow or public planting space and create low maintenance\, pollinator friendly spaces. Free pollinator friendly seeds and plants for all participants. \nTHIS EVENT IS NOW BOOKED OUT
URL:https://westmeathppn.ie/event/free-pollinator-planting-workshop/
LOCATION:Belvedere House and Gardens\, Mullingar\, Belvedere House\, Gardens and Park\, Mullingar\, Co Westmeath\, N91 EF80\, Ireland
ATTACH;FMTTYPE=image/jpeg:https://westmeathppn.ie/wp-content/uploads/2025/08/Pollinator-Planting-Workshop-Image.jpg
ORGANIZER;CN="WPPN":MAILTO:ppn@westmeathcoco.ie
GEO:53.4773383;-7.3688373
X-APPLE-STRUCTURED-LOCATION;VALUE=URI;X-ADDRESS=Belvedere House and Gardens Mullingar Belvedere House Gardens and Park Mullingar Co Westmeath N91 EF80 Ireland;X-APPLE-RADIUS=500;X-TITLE=Belvedere House\, Gardens and Park:geo:-7.3688373,53.4773383
END:VEVENT
BEGIN:VEVENT
DTSTART;TZID=Europe/Dublin:20250902T190000
DTEND;TZID=Europe/Dublin:20250902T203000
DTSTAMP:20260420T141301
CREATED:20250820T142643Z
LAST-MODIFIED:20250901T095050Z
UID:10000003-1756839600-1756845000@westmeathppn.ie
SUMMARY:Athlone-Moate Municipal District Meeting 2/9/2025
DESCRIPTION:The public are invited to attend an upcoming \n\nAthlone-Moate Municipal District Protocol Meeting.\n7pm. 2nd September 2025.\nShamrock Lodge Hotel\, Athlone.\n\nRegister by clicking on this link –  https://forms.office.com/e/N90XR8yjsL\n\nThese public meetings provide an opportunity for your WPPN group to participate in the local democratic process in Westmeath.\nAs part of the formal process of drafting the Municipal District Budgets for 2025\, WPPN will ask member groups to identify and make submissions on issues affecting their locality or community.\nThis meeting will be asked to elect WPPN delegates who will\, at a later stage\, formally present these issues to Westmeath Co Co at Municipal District meetings.\nThe meeting will also be asked to consider the drafting  of a new Strategic Plan – https://westmeathppn.ie/drafting-of-a-new-wppn-strategic-plan/
URL:https://westmeathppn.ie/event/athlone-moate-municipal-district-meeting-2-9-2025/
LOCATION:Shamrock Lodge Hotel\, Athlone\, Clonown Rd\, Bellaugh\, Athlone\, Co Westmeath\, N37 CK73\, Ireland
ATTACH;FMTTYPE=image/png:https://westmeathppn.ie/wp-content/uploads/2025/08/Linkage-Group.png
ORGANIZER;CN="WPPN":MAILTO:ppn@westmeathcoco.ie
GEO:53.4217433;-7.9494645
X-APPLE-STRUCTURED-LOCATION;VALUE=URI;X-ADDRESS=Shamrock Lodge Hotel Athlone Clonown Rd Bellaugh Athlone Co Westmeath N37 CK73 Ireland;X-APPLE-RADIUS=500;X-TITLE=Clonown Rd\, Bellaugh:geo:-7.9494645,53.4217433
END:VEVENT
BEGIN:VEVENT
DTSTART;TZID=Europe/Dublin:20250828T070000
DTEND;TZID=Europe/Dublin:20250828T083000
DTSTAMP:20260420T141301
CREATED:20250820T143711Z
LAST-MODIFIED:20250821T170857Z
UID:10000005-1756364400-1756369800@westmeathppn.ie
SUMMARY:Mullingar-Kinnegad Municipal District Meeting 28/8/2025
DESCRIPTION:The public are invited to attend an upcoming \n\nMullingar-Kinnegad Municipal District Protocol Meeting.\n7pm. 28th August 2025.\nBloomfield House Hotel\, Mullingar.\n\nRegister by clicking on this link – https://forms.office.com/e/GN2AwEbR45\n\nThese public meetings provide an opportunity for your WPPN group to participate in the local democratic process in Westmeath.\nAs part of the formal process of drafting the Municipal District Budgets for 2025\, WPPN will ask member groups to identify and make submissions on issues affecting their locality or community.\nThis meeting will be asked to elect WPPN delegates who will\, at a later stage\, formally present these issues to Westmeath Co Co at Municipal District meetings.\nThe meeting will also be asked to consider the drafting  of a new Strategic Plan – https://westmeathppn.ie/drafting-of-a-new-wppn-strategic-plan/
URL:https://westmeathppn.ie/event/mullingar-kinnegad-municipal-district-meeting-28-8-2025/
LOCATION:Bloomfield House Hotel\, Belvedere\, Mullingar\, Co Westmeath\, N91 HP8E\, Ireland
ATTACH;FMTTYPE=image/png:https://westmeathppn.ie/wp-content/uploads/2025/08/Linkage-Group.png
ORGANIZER;CN="WPPN":MAILTO:ppn@westmeathcoco.ie
GEO:53.5256075;-7.3418806
X-APPLE-STRUCTURED-LOCATION;VALUE=URI;X-ADDRESS=Bloomfield House Hotel Belvedere Mullingar Co Westmeath N91 HP8E Ireland;X-APPLE-RADIUS=500;X-TITLE=Belvedere:geo:-7.3418806,53.5256075
END:VEVENT
END:VCALENDAR